BEGIN:VCALENDAR
VERSION:2.0
PRODID:-//WP EVENT Manager Ical//NONSGML Events//EN
CALSCALE:GREGORIAN
BEGIN:VTIMEZONE
TZID:Asia/Kolkata
BEGIN:STANDARD
DTSTART:19700101T000000
TZOFFSETFROM:+0530
TZOFFSETTO:+0530
END:STANDARD
END:VTIMEZONE
BEGIN:VEVENT
UID:69ecdf0d6aef9@snappytickets.co.uk
DTSTAMP:20260425T153437Z
DTSTART;TZID=Asia/Kolkata:20260517T190000
DTEND;TZID=Asia/Kolkata:20260517T200000
LOCATION:St Albans Church, St Albans Church, Bayswater Avenue, Westbury Park, Bristol BS6 7NU
SUMMARY:Gasworks Choir Evening Concert 7pm Sunday 17 May 2026
DESCRIPTION:160 voices raise the roof!Gasworks Choir are delighted to unleash their latest repertoire at these Spring Concerts. Led by Ali Orbaum and Zoie Kennedy, this thriving community choir perform a wide range of songs in gorgeous acappella harmony. One uplifting hour of song in the beautiful setting of St Albans Church. The Gasmen Collective and Gasworks Singers will also be performing as part of the concert.Featuring songs by Stevie Wonder and KT Tunstall, Gaelic folk, traditional Maori, classical and spirituals with a twist.If you want tickets for the matinee concert (not the evening) please click HEREwww.gasworkschoir.co.uk
END:VEVENT
END:VCALENDAR