BEGIN:VCALENDAR
VERSION:2.0
PRODID:-//WP EVENT Manager Ical//NONSGML Events//EN
CALSCALE:GREGORIAN
BEGIN:VTIMEZONE
TZID:Asia/Kolkata
BEGIN:STANDARD
DTSTART:19700101T000000
TZOFFSETFROM:+0530
TZOFFSETTO:+0530
END:STANDARD
END:VTIMEZONE
BEGIN:VEVENT
UID:69ecdf778cd26@snappytickets.co.uk
DTSTAMP:20260425T153623Z
DTSTART;TZID=Asia/Kolkata:20260517T163000
DTEND;TZID=Asia/Kolkata:20260517T173000
LOCATION:St Albans Church, St Albans Church, Bayswater Avenue, Westbury Park, Bristol BS6 7NU
SUMMARY:Gasworks Choir Family Matinee 4.30pm Sunday 17 May 2026
DESCRIPTION:160 voices raise the roof!Gasworks Choir are delighted to unleash their latest repertoire at these Spring Concerts. Led by Ali Orbaum and Zoie Kennedy, this thriving community choir perform a wide range of songs in gorgeous acappella harmony. One uplifting hour of song in the beautiful setting of St Albans Church. The Gasmen Collective and Gasworks Singers will also be performing as part of the concert.Featuring songs by Stevie Wonder and KT Tunstall, Gaelic folk, traditional Maori, classical and spirituals with a twist.If you want tickets for the evening concert (not the matinee) please click HEREwww.gasworkschoir.co.uk
END:VEVENT
END:VCALENDAR