BEGIN:VCALENDAR
VERSION:2.0
PRODID:-//WP EVENT Manager Ical//NONSGML Events//EN
CALSCALE:GREGORIAN
BEGIN:VTIMEZONE
TZID:Asia/Kolkata
BEGIN:STANDARD
DTSTART:19700101T000000
TZOFFSETFROM:+0530
TZOFFSETTO:+0530
END:STANDARD
END:VTIMEZONE
BEGIN:VEVENT
UID:69e74554a8f34@snappytickets.co.uk
DTSTAMP:20260421T093724Z
DTSTART;TZID=Asia/Kolkata:20261023T160000
DTEND;TZID=Asia/Kolkata:20261025T140000
LOCATION:Drumalis Retreat and Conference Centre, 47 Glenarm Rd, Larne, County Antrim BT40 1DT
SUMMARY:Harmony Singing Weekend with Una and Tembre
DESCRIPTION:A joyful and nourishing Harmony Singing weekend with Una &amp; Tembre at the beautiful Drumalis Retreat Centre in Larne, County AntrimThe whole singing weekend will be led by 2 community song leaders and song writers Una McCann and Tembre de Carteret.Tembre &amp; Una have been singing and collaborating with each other for a number of years honouring each other’s journey in song &amp; leadership.A unique offering open to all voices.What to expect?  Comfortable surroundings, beautiful views, good food, great company and lots of wonderful harmony singing.  We can&#8217;t promise the sun will shine but if it does there will be time for relaxing walks in the lovely gardens, neighbouring park and along the coast.No prior singing experience is necessary. Una is passionate about the community that forms when we sing together and wants more people to experience the joy, fun and wonderful connection that a whole weekend of singing can bring. Tembre holds an inclusive and relaxed approach to community singing in a nourishing and organic way, bringing songs to inspire and soothe.Una &amp; Tembre’s collaboration is naturally rooted in respect, friendship and a shared passion for community singing that leaves participants feeling fulfilled and inspiredArrival:                 Friday 23rd October 2026 @ 4pmDeparture:           Sunday 25th October 2026 @ 2pmCatering:              All meals are provided from dinner on Friday to lunch on SundayAccommodation:     All rooms are ensuite.   You can choose from single or twin.Non-residential tickets are available for those who live nearby and want to stay at home.  The ticket price for non-residential includes all meals except breakfasts.2 reduced cost places are available for those who would not be able to attend otherwise.  Please email harmonyireland@gmail.com to apply.Watch a video of Drumalis Retreat Centre here:  https://www.youtube.com/watch?v=xw9tLvySsDUMore about Una and Tembre and their work www.unamccann.org ,  https://www.tembresong.com/                                                          
END:VEVENT
END:VCALENDAR