BEGIN:VCALENDAR
VERSION:2.0
PRODID:-//WP EVENT Manager Ical//NONSGML Events//EN
CALSCALE:GREGORIAN
BEGIN:VTIMEZONE
TZID:Asia/Kolkata
BEGIN:STANDARD
DTSTART:19700101T000000
TZOFFSETFROM:+0530
TZOFFSETTO:+0530
END:STANDARD
END:VTIMEZONE
BEGIN:VEVENT
UID:69eb89524ab84@snappytickets.co.uk
DTSTAMP:20260424T151634Z
DTSTART;TZID=Asia/Kolkata:20260711T103000
DTEND;TZID=Asia/Kolkata:20260711T123000
LOCATION:October Books, 189 Portswood High Street SO17 2NF
SUMMARY:A Summer’s Morning in July
DESCRIPTION:Join Fiona Funnell in the fourth in the series of her a capella singing workshops, in the community space at October Books.No need to read music.Bring snacks to share.We may sing in the bookshop at the end of the workshop!
END:VEVENT
END:VCALENDAR