BEGIN:VCALENDAR
VERSION:2.0
PRODID:-//WP EVENT Manager Ical//NONSGML Events//EN
CALSCALE:GREGORIAN
BEGIN:VTIMEZONE
TZID:Asia/Kolkata
BEGIN:STANDARD
DTSTART:19700101T000000
TZOFFSETFROM:+0530
TZOFFSETTO:+0530
END:STANDARD
END:VTIMEZONE
BEGIN:VEVENT
UID:69eb85a9a85a0@snappytickets.co.uk
DTSTAMP:20260424T150057Z
DTSTART;TZID=Asia/Kolkata:20260509T103000
DTEND;TZID=Asia/Kolkata:20260509T123000
LOCATION:October Books, 189 Portswood High Street SO17 2NF
SUMMARY:MayHum
DESCRIPTION:Join Fiona Funnell in this a capella singing workshop.No need to read music.Songs about bluebells, celebrate the marvellousness of May, have a little hum in happy harmony.Hot drinks provided. Bring snacks to share, and spending money for the bookshop!
END:VEVENT
END:VCALENDAR