BEGIN:VCALENDAR
VERSION:2.0
PRODID:-//WP EVENT Manager Ical//NONSGML Events//EN
CALSCALE:GREGORIAN
BEGIN:VTIMEZONE
TZID:Asia/Kolkata
BEGIN:STANDARD
DTSTART:19700101T000000
TZOFFSETFROM:+0530
TZOFFSETTO:+0530
END:STANDARD
END:VTIMEZONE
BEGIN:VEVENT
UID:69e7eb93a72a8@snappytickets.co.uk
DTSTAMP:20260421T212643Z
DTSTART;TZID=Asia/Kolkata:20260418T153000
DTEND;TZID=Asia/Kolkata:20260418T173000
LOCATION:Launceston Town Hall, Western Rd, Launceston PL15 7AR
SUMMARY:Music and Tour Management with Damian Liptrot
DESCRIPTION:For independent Musicians, Grassroots Venues, and Tour/Band Managers.Damiam Liptrot has been working with and supporting musicians for 40 years.We are fortunate to have Damian with us in Launceston while he is touring with Merry Hell, ahead of their concert in Launceston Town Hall, whom he has supported to US and UK folk chart success and building a large, devoted following on the Festival and Folk circuits.Acting variously as manager, agent, promoter, publicist, roadie and spiritual advisor to a variety of artists, Damian has seen them play 1000’s of gigs and festivals of all sizes, featured on international, national, regional and local radio and TV, and covered in all the right print and online media appropriate to their genres. Artists he has supported have won multiple awards, gained chart success, undertaken prestige tours and supports, as well as releasing well received albums and singles to ever growing and appreciative audiences.In this workshop, Damian will talk about his experience of managing and promoting artists and organising tours, as well as how independent musicians can take their music from the studio and out into the wider world. Damian will also hold a question and answer session where you can ask any questions not covered in his workshop and draw on his wealth of experience. This is for you if:you are a grassroots venue wanting to know how best to promote your events and artists,an independent musician or band wondering what to do with your recorded music and how to promote it,anyone who has found themselves organising or booking concerts, tours, or musicians,you are considering getting into the music industry. If you would like to stay on and attend the Merry Hell concert in the evening, you can buy a discounted ticket by selecting the &#8216;Member Ticket&#8217; priced option via this link: https://snappytickets.co.uk/event/merry-hell-launceston-folk-club/Please note, this option is only open to those attending this workshop or who are already Launceston Folk Club members.
END:VEVENT
END:VCALENDAR