BEGIN:VCALENDAR
VERSION:2.0
PRODID:-//WP EVENT Manager Ical//NONSGML Events//EN
CALSCALE:GREGORIAN
BEGIN:VTIMEZONE
TZID:Asia/Kolkata
BEGIN:STANDARD
DTSTART:19700101T000000
TZOFFSETFROM:+0530
TZOFFSETTO:+0530
END:STANDARD
END:VTIMEZONE
BEGIN:VEVENT
UID:69eb83201dd6a@snappytickets.co.uk
DTSTAMP:20260424T145008Z
DTSTART;TZID=Asia/Kolkata:20260912T103000
DTEND;TZID=Asia/Kolkata:20260912T123000
LOCATION:October Books, 189 Portswood High Street SO17 2NF
SUMMARY:Season of Mist and Mellow
DESCRIPTION:Join Fiona Funnell in her fifth a capella singing workshop in the community space behind October Books.No need to read music.Songs exploring misty, mellow September.Hot drinks provided.Bring snacks to share, and spending money for the bookshop!
END:VEVENT
END:VCALENDAR