BEGIN:VCALENDAR
VERSION:2.0
PRODID:-//WP EVENT Manager Ical//NONSGML Events//EN
CALSCALE:GREGORIAN
BEGIN:VTIMEZONE
TZID:Asia/Kolkata
BEGIN:STANDARD
DTSTART:19700101T000000
TZOFFSETFROM:+0530
TZOFFSETTO:+0530
END:STANDARD
END:VTIMEZONE
BEGIN:VEVENT
UID:69e86560474e7@snappytickets.co.uk
DTSTAMP:20260422T060624Z
DTSTART;TZID=Asia/Kolkata:20261108T100000
DTEND;TZID=Asia/Kolkata:20261108T150000
LOCATION:Kendal Parish Hall, Kirkland, Kendal LA9 5AF
SUMMARY:Songs to Lighten the Dark with Penny Stone
DESCRIPTION:We&#8217;ve sung her fabulous songs for years &#8211; Murmuration, Sow Seeds of Hope, Believing in Love to name just a few.We&#8217;ve LOVED joining her for singing workshops all around the country but now we have pinned her down to come and lead a whole day of glorious harmony singing here in Kendal &#8211; whoop whoop!Join us to sing with Penny Stone&#8230;Sunday 8th November 2026 from 10am-3pm in Kendal Parish Hall, Kirkland.Bring something to share for a Jacob&#8217;s Join lunch. Hot drinks will be provided.
END:VEVENT
END:VCALENDAR